BEGIN:VCALENDAR
VERSION:2.0
PRODID:-//Eveiller sa nature - ECPv6.15.20//NONSGML v1.0//EN
CALSCALE:GREGORIAN
METHOD:PUBLISH
X-WR-CALNAME:Eveiller sa nature
X-ORIGINAL-URL:https://eveillersanature.fr
X-WR-CALDESC:Évènements pour Eveiller sa nature
REFRESH-INTERVAL;VALUE=DURATION:PT1H
X-Robots-Tag:noindex
X-PUBLISHED-TTL:PT1H
BEGIN:VTIMEZONE
TZID:Europe/Paris
BEGIN:DAYLIGHT
TZOFFSETFROM:+0100
TZOFFSETTO:+0200
TZNAME:CEST
DTSTART:20240331T010000
END:DAYLIGHT
BEGIN:STANDARD
TZOFFSETFROM:+0200
TZOFFSETTO:+0100
TZNAME:CET
DTSTART:20241027T010000
END:STANDARD
BEGIN:DAYLIGHT
TZOFFSETFROM:+0100
TZOFFSETTO:+0200
TZNAME:CEST
DTSTART:20250330T010000
END:DAYLIGHT
BEGIN:STANDARD
TZOFFSETFROM:+0200
TZOFFSETTO:+0100
TZNAME:CET
DTSTART:20251026T010000
END:STANDARD
BEGIN:DAYLIGHT
TZOFFSETFROM:+0100
TZOFFSETTO:+0200
TZNAME:CEST
DTSTART:20260329T010000
END:DAYLIGHT
BEGIN:STANDARD
TZOFFSETFROM:+0200
TZOFFSETTO:+0100
TZNAME:CET
DTSTART:20261025T010000
END:STANDARD
END:VTIMEZONE
BEGIN:VEVENT
DTSTART;TZID=Europe/Paris:20250425T093000
DTEND;TZID=Europe/Paris:20250425T163000
DTSTAMP:20260422T152132
CREATED:20250212T203241Z
LAST-MODIFIED:20250306T074334Z
UID:3720-1745573400-1745598600@eveillersanature.fr
SUMMARY:COMPLET - Atelier de médecine symbolique à Mendionde
DESCRIPTION:Cet atelier vous permettra de découvrir ce que les plantes ont à vous apprendre sur vous.\nMessages et usages des plantes locales pour une libération spirituelle. \n\n\n\nDe 9h30h à 16h30\nTarif: 50€\nGuidé par Valérie Fernandez\, phytothérapeute
URL:https://eveillersanature.fr/evenement/atelier-de-medecine-symbolique-mendionde/
LOCATION:Mendionde
END:VEVENT
END:VCALENDAR