BEGIN:VCALENDAR
VERSION:2.0
PRODID:-//Eveiller sa nature - ECPv6.15.20//NONSGML v1.0//EN
CALSCALE:GREGORIAN
METHOD:PUBLISH
X-ORIGINAL-URL:https://eveillersanature.fr
X-WR-CALDESC:Évènements pour Eveiller sa nature
REFRESH-INTERVAL;VALUE=DURATION:PT1H
X-Robots-Tag:noindex
X-PUBLISHED-TTL:PT1H
BEGIN:VTIMEZONE
TZID:Europe/Paris
BEGIN:DAYLIGHT
TZOFFSETFROM:+0100
TZOFFSETTO:+0200
TZNAME:CEST
DTSTART:20240331T010000
END:DAYLIGHT
BEGIN:STANDARD
TZOFFSETFROM:+0200
TZOFFSETTO:+0100
TZNAME:CET
DTSTART:20241027T010000
END:STANDARD
BEGIN:DAYLIGHT
TZOFFSETFROM:+0100
TZOFFSETTO:+0200
TZNAME:CEST
DTSTART:20250330T010000
END:DAYLIGHT
BEGIN:STANDARD
TZOFFSETFROM:+0200
TZOFFSETTO:+0100
TZNAME:CET
DTSTART:20251026T010000
END:STANDARD
BEGIN:DAYLIGHT
TZOFFSETFROM:+0100
TZOFFSETTO:+0200
TZNAME:CEST
DTSTART:20260329T010000
END:DAYLIGHT
BEGIN:STANDARD
TZOFFSETFROM:+0200
TZOFFSETTO:+0100
TZNAME:CET
DTSTART:20261025T010000
END:STANDARD
END:VTIMEZONE
BEGIN:VEVENT
DTSTART;TZID=Europe/Paris:20250428T080000
DTEND;TZID=Europe/Paris:20250502T170000
DTSTAMP:20260422T152411
CREATED:20250408T094902Z
LAST-MODIFIED:20250408T094902Z
UID:3862-1745827200-1746205200@eveillersanature.fr
SUMMARY:Formation d'herboristerie sauvage /  printemps à Ossès
DESCRIPTION:du 28 au 2 mai 2025 à Ossès
URL:https://eveillersanature.fr/evenement/formation-dherboristerie-sauvage-printemps-a-osses/
LOCATION:Ossès
END:VEVENT
END:VCALENDAR