BEGIN:VCALENDAR
VERSION:2.0
PRODID:-//Eveiller sa nature - ECPv6.15.20//NONSGML v1.0//EN
CALSCALE:GREGORIAN
METHOD:PUBLISH
X-WR-CALNAME:Eveiller sa nature
X-ORIGINAL-URL:https://eveillersanature.fr
X-WR-CALDESC:Évènements pour Eveiller sa nature
REFRESH-INTERVAL;VALUE=DURATION:PT1H
X-Robots-Tag:noindex
X-PUBLISHED-TTL:PT1H
BEGIN:VTIMEZONE
TZID:Europe/Paris
BEGIN:DAYLIGHT
TZOFFSETFROM:+0100
TZOFFSETTO:+0200
TZNAME:CEST
DTSTART:20240331T010000
END:DAYLIGHT
BEGIN:STANDARD
TZOFFSETFROM:+0200
TZOFFSETTO:+0100
TZNAME:CET
DTSTART:20241027T010000
END:STANDARD
BEGIN:DAYLIGHT
TZOFFSETFROM:+0100
TZOFFSETTO:+0200
TZNAME:CEST
DTSTART:20250330T010000
END:DAYLIGHT
BEGIN:STANDARD
TZOFFSETFROM:+0200
TZOFFSETTO:+0100
TZNAME:CET
DTSTART:20251026T010000
END:STANDARD
BEGIN:DAYLIGHT
TZOFFSETFROM:+0100
TZOFFSETTO:+0200
TZNAME:CEST
DTSTART:20260329T010000
END:DAYLIGHT
BEGIN:STANDARD
TZOFFSETFROM:+0200
TZOFFSETTO:+0100
TZNAME:CET
DTSTART:20261025T010000
END:STANDARD
END:VTIMEZONE
BEGIN:VEVENT
DTSTART;TZID=Europe/Paris:20251121T093000
DTEND;TZID=Europe/Paris:20251121T163000
DTSTAMP:20260425T122902
CREATED:20250930T211830Z
LAST-MODIFIED:20250930T211830Z
UID:4244-1763717400-1763742600@eveillersanature.fr
SUMMARY:𝖠𝗍𝖾𝗅𝗂𝖾𝗋 𝖽𝖾 𝗆𝖾́𝖽𝖾𝖼𝗂𝗇𝖾 𝗌𝗒𝗆𝖻𝗈𝗅𝗂𝗊𝗎𝖾 à Mendionde
DESCRIPTION:Cet atelier vous permettra de découvrir ce que les plantes ont à vous apprendre sur vous.\nMessages et usages des plantes locales pour une libération spirituelle. \nDe 9h30h à 16h30\nTarif: 50€\nGuidé par Valérie Fernandez\, phytothérapeute
URL:https://eveillersanature.fr/evenement/%f0%9d%96%a0%f0%9d%97%8d%f0%9d%96%be%f0%9d%97%85%f0%9d%97%82%f0%9d%96%be%f0%9d%97%8b-%f0%9d%96%bd%f0%9d%96%be-%f0%9d%97%86%f0%9d%96%be%f0%9d%96%bd%f0%9d%96%be%f0%9d%96%bc%f0%9d%97%82%f0%9d%97%87/
LOCATION:Mendionde
END:VEVENT
END:VCALENDAR