BEGIN:VCALENDAR
VERSION:2.0
PRODID:-//Eveiller sa nature - ECPv6.15.20//NONSGML v1.0//EN
CALSCALE:GREGORIAN
METHOD:PUBLISH
X-ORIGINAL-URL:https://eveillersanature.fr
X-WR-CALDESC:Évènements pour Eveiller sa nature
REFRESH-INTERVAL;VALUE=DURATION:PT1H
X-Robots-Tag:noindex
X-PUBLISHED-TTL:PT1H
BEGIN:VTIMEZONE
TZID:Europe/Paris
BEGIN:DAYLIGHT
TZOFFSETFROM:+0100
TZOFFSETTO:+0200
TZNAME:CEST
DTSTART:20250330T010000
END:DAYLIGHT
BEGIN:STANDARD
TZOFFSETFROM:+0200
TZOFFSETTO:+0100
TZNAME:CET
DTSTART:20251026T010000
END:STANDARD
BEGIN:DAYLIGHT
TZOFFSETFROM:+0100
TZOFFSETTO:+0200
TZNAME:CEST
DTSTART:20260329T010000
END:DAYLIGHT
BEGIN:STANDARD
TZOFFSETFROM:+0200
TZOFFSETTO:+0100
TZNAME:CET
DTSTART:20261025T010000
END:STANDARD
BEGIN:DAYLIGHT
TZOFFSETFROM:+0100
TZOFFSETTO:+0200
TZNAME:CEST
DTSTART:20270328T010000
END:DAYLIGHT
BEGIN:STANDARD
TZOFFSETFROM:+0200
TZOFFSETTO:+0100
TZNAME:CET
DTSTART:20271031T010000
END:STANDARD
END:VTIMEZONE
BEGIN:VEVENT
DTSTART;TZID=Europe/Paris:20260128T100000
DTEND;TZID=Europe/Paris:20260128T123000
DTSTAMP:20260426T061454
CREATED:20251107T100254Z
LAST-MODIFIED:20260210T081146Z
UID:4315-1769594400-1769603400@eveillersanature.fr
SUMMARY:Balade botanique : Spéciale arbres et écorces à Ascain
DESCRIPTION:Mercredi 28 janvier 2026\nAscain\n10h / 12h30\navec Anne-Catherine Dor
URL:https://eveillersanature.fr/evenement/balade-botanique-speciale-arbres-et-ecorces-a-ascain/
LOCATION:Ascain
CATEGORIES:Balade botanique
END:VEVENT
END:VCALENDAR