BEGIN:VCALENDAR
VERSION:2.0
PRODID:-//Eveiller sa nature - ECPv6.15.20//NONSGML v1.0//EN
CALSCALE:GREGORIAN
METHOD:PUBLISH
X-WR-CALNAME:Eveiller sa nature
X-ORIGINAL-URL:https://eveillersanature.fr
X-WR-CALDESC:Évènements pour Eveiller sa nature
REFRESH-INTERVAL;VALUE=DURATION:PT1H
X-Robots-Tag:noindex
X-PUBLISHED-TTL:PT1H
BEGIN:VTIMEZONE
TZID:Europe/Paris
BEGIN:DAYLIGHT
TZOFFSETFROM:+0100
TZOFFSETTO:+0200
TZNAME:CEST
DTSTART:20250330T010000
END:DAYLIGHT
BEGIN:STANDARD
TZOFFSETFROM:+0200
TZOFFSETTO:+0100
TZNAME:CET
DTSTART:20251026T010000
END:STANDARD
BEGIN:DAYLIGHT
TZOFFSETFROM:+0100
TZOFFSETTO:+0200
TZNAME:CEST
DTSTART:20260329T010000
END:DAYLIGHT
BEGIN:STANDARD
TZOFFSETFROM:+0200
TZOFFSETTO:+0100
TZNAME:CET
DTSTART:20261025T010000
END:STANDARD
BEGIN:DAYLIGHT
TZOFFSETFROM:+0100
TZOFFSETTO:+0200
TZNAME:CEST
DTSTART:20270328T010000
END:DAYLIGHT
BEGIN:STANDARD
TZOFFSETFROM:+0200
TZOFFSETTO:+0100
TZNAME:CET
DTSTART:20271031T010000
END:STANDARD
END:VTIMEZONE
BEGIN:VEVENT
DTSTART;TZID=Europe/Paris:20260304T140000
DTEND;TZID=Europe/Paris:20260304T170000
DTSTAMP:20260425T215000
CREATED:20260210T073835Z
LAST-MODIFIED:20260210T091807Z
UID:4437-1772632800-1772643600@eveillersanature.fr
SUMMARY:Atelier de gemmothérapie : Soin par les bourgeons
DESCRIPTION:Cet atelier animé par Anne-Catherine Dor\, herboriste\, vous invite à découvrir la gemmothérapie\, une approche naturelle qui utilise les bourgeons pour leurs vertus thérapeutiques uniques\, concentrées de toute l’énergie du végétal en devenir. \nAu cours de l’après-midi\, vous apprendrez à reconnaître les arbres\, à identifier leurs bourgeons et à comprendre leurs propriétés spécifiques. La récolte se fera en conscience et dans le respect du vivant\, avant de passer à la pratique avec la confection d’un macérat personnalisé\, adapté à vos besoins. \nUn moment pédagogique pour entrer en relation avec le végétal et repartir avec un soin que vous aurez réalisé vous-même. \nTarif : 40€\nTarif adhérent : 30€
URL:https://eveillersanature.fr/evenement/%f0%9d%96%a0%f0%9d%97%8d%f0%9d%96%be%f0%9d%97%85%f0%9d%97%82%f0%9d%96%be%f0%9d%97%8b-%f0%9d%96%bd%f0%9d%96%be-%f0%9d%97%80%f0%9d%96%be%f0%9d%97%86%f0%9d%97%86%f0%9d%97%88%f0%9d%97%8d%f0%9d%97%81/
LOCATION:Hasparren
CATEGORIES:Atelier
END:VEVENT
END:VCALENDAR