BEGIN:VCALENDAR
VERSION:2.0
PRODID:-//Eveiller sa nature - ECPv6.15.20//NONSGML v1.0//EN
CALSCALE:GREGORIAN
METHOD:PUBLISH
X-ORIGINAL-URL:https://eveillersanature.fr
X-WR-CALDESC:Évènements pour Eveiller sa nature
REFRESH-INTERVAL;VALUE=DURATION:PT1H
X-Robots-Tag:noindex
X-PUBLISHED-TTL:PT1H
BEGIN:VTIMEZONE
TZID:Europe/Paris
BEGIN:DAYLIGHT
TZOFFSETFROM:+0100
TZOFFSETTO:+0200
TZNAME:CEST
DTSTART:20250330T010000
END:DAYLIGHT
BEGIN:STANDARD
TZOFFSETFROM:+0200
TZOFFSETTO:+0100
TZNAME:CET
DTSTART:20251026T010000
END:STANDARD
BEGIN:DAYLIGHT
TZOFFSETFROM:+0100
TZOFFSETTO:+0200
TZNAME:CEST
DTSTART:20260329T010000
END:DAYLIGHT
BEGIN:STANDARD
TZOFFSETFROM:+0200
TZOFFSETTO:+0100
TZNAME:CET
DTSTART:20261025T010000
END:STANDARD
BEGIN:DAYLIGHT
TZOFFSETFROM:+0100
TZOFFSETTO:+0200
TZNAME:CEST
DTSTART:20270328T010000
END:DAYLIGHT
BEGIN:STANDARD
TZOFFSETFROM:+0200
TZOFFSETTO:+0100
TZNAME:CET
DTSTART:20271031T010000
END:STANDARD
END:VTIMEZONE
BEGIN:VEVENT
DTSTART;TZID=Europe/Paris:20260311T100000
DTEND;TZID=Europe/Paris:20260311T123000
DTSTAMP:20260425T133921
CREATED:20260210T072625Z
LAST-MODIFIED:20260210T091401Z
UID:4430-1773223200-1773232200@eveillersanature.fr
SUMMARY:Balade Botanique : Spéciale ail des ours et son biotope
DESCRIPTION:Partez à la découverte des plantes sauvages comestibles lors d’une balade botanique dédiée à une plante emblématique du printemps : l’ail des ours. \nLe temps d’une matinée\, vous serez invité·e à explorer son biotope naturel\, à apprendre à le reconnaître avec certitude\, à comprendre son environnement\, son rôle dans l’écosystème et ses usages traditionnels. \nCette balade est animée par Anne-Catherine Dor\, qui partagera ses connaissances avec pédagogie et simplicité\, dans une approche respectueuse du vivant et de la nature. \nÀ qui s’adresse cette balade ?\n\nCurieux·ses de nature et de plantes sauvages\nDébutant·es comme initié·es\nPersonnes souhaitant mieux connaître les plantes locales et leur environnement\n\nTarif adhérent·es: 15€\nTarif non-adhérent·es: 12€\nTarif ancien·es élèves 10€\nGratuit -12 ans. \nAucune connaissance préalable n’est nécessaire\, seulement l’envie d’observer\, de comprendre et de se reconnecter à la nature.
URL:https://eveillersanature.fr/evenement/balade-botanique-speciale-ail-des-ours-et-son-biotope/
LOCATION:Autour de Bayonne
CATEGORIES:Balade botanique
END:VEVENT
END:VCALENDAR