BEGIN:VCALENDAR
VERSION:2.0
PRODID:-//Eveiller sa nature - ECPv6.15.20//NONSGML v1.0//EN
CALSCALE:GREGORIAN
METHOD:PUBLISH
X-ORIGINAL-URL:https://eveillersanature.fr
X-WR-CALDESC:Évènements pour Eveiller sa nature
REFRESH-INTERVAL;VALUE=DURATION:PT1H
X-Robots-Tag:noindex
X-PUBLISHED-TTL:PT1H
BEGIN:VTIMEZONE
TZID:Europe/Paris
BEGIN:DAYLIGHT
TZOFFSETFROM:+0100
TZOFFSETTO:+0200
TZNAME:CEST
DTSTART:20250330T010000
END:DAYLIGHT
BEGIN:STANDARD
TZOFFSETFROM:+0200
TZOFFSETTO:+0100
TZNAME:CET
DTSTART:20251026T010000
END:STANDARD
BEGIN:DAYLIGHT
TZOFFSETFROM:+0100
TZOFFSETTO:+0200
TZNAME:CEST
DTSTART:20260329T010000
END:DAYLIGHT
BEGIN:STANDARD
TZOFFSETFROM:+0200
TZOFFSETTO:+0100
TZNAME:CET
DTSTART:20261025T010000
END:STANDARD
BEGIN:DAYLIGHT
TZOFFSETFROM:+0100
TZOFFSETTO:+0200
TZNAME:CEST
DTSTART:20270328T010000
END:DAYLIGHT
BEGIN:STANDARD
TZOFFSETFROM:+0200
TZOFFSETTO:+0100
TZNAME:CET
DTSTART:20271031T010000
END:STANDARD
END:VTIMEZONE
BEGIN:VEVENT
DTSTART;TZID=Europe/Paris:20260313T093000
DTEND;TZID=Europe/Paris:20260313T163000
DTSTAMP:20260421T112824
CREATED:20260210T074208Z
LAST-MODIFIED:20260210T091800Z
UID:4440-1773394200-1773419400@eveillersanature.fr
SUMMARY:Atelier de médecine symbolique
DESCRIPTION:Cet atelier animé par Valérie Fernandez\, phytothérapeute\, vous propose une exploration plus intuitive et symbolique du monde végétal\, à la rencontre de ce que les plantes ont à vous apprendre sur vous-même. \nÀ travers l’observation des plantes locales\, leurs messages et leurs usages\, vous serez invité·e à entrer dans une relation plus subtile avec le végétal. Cette approche de la médecine symbolique ouvre un espace de réflexion\, d’écoute et de libération spirituelle\, en lien avec votre chemin personnel. \nNombre de places : 6 (atelier en petit groupe) \nÀ qui s’adresse cet atelier ?\n\nPersonnes en quête de sens et de reconnexion intérieure\nCurieux·ses des approches symboliques et spirituelles du végétal\nToute personne souhaitant explorer une autre manière d’entrer en relation avec les plantes
URL:https://eveillersanature.fr/evenement/%f0%9d%96%a0%f0%9d%97%8d%f0%9d%96%be%f0%9d%97%85%f0%9d%97%82%f0%9d%96%be%f0%9d%97%8b-%f0%9d%96%bd%f0%9d%96%be-%f0%9d%97%86%f0%9d%96%be%f0%9d%96%bd%f0%9d%96%be%f0%9d%96%bc%f0%9d%97%82%f0%9d%97%87-3/
LOCATION:Mendionde
CATEGORIES:Atelier
END:VEVENT
END:VCALENDAR