BEGIN:VCALENDAR
VERSION:2.0
PRODID:-//Eveiller sa nature - ECPv6.15.20//NONSGML v1.0//EN
CALSCALE:GREGORIAN
METHOD:PUBLISH
X-WR-CALNAME:Eveiller sa nature
X-ORIGINAL-URL:https://eveillersanature.fr
X-WR-CALDESC:Évènements pour Eveiller sa nature
REFRESH-INTERVAL;VALUE=DURATION:PT1H
X-Robots-Tag:noindex
X-PUBLISHED-TTL:PT1H
BEGIN:VTIMEZONE
TZID:Europe/Paris
BEGIN:DAYLIGHT
TZOFFSETFROM:+0100
TZOFFSETTO:+0200
TZNAME:CEST
DTSTART:20240331T010000
END:DAYLIGHT
BEGIN:STANDARD
TZOFFSETFROM:+0200
TZOFFSETTO:+0100
TZNAME:CET
DTSTART:20241027T010000
END:STANDARD
BEGIN:DAYLIGHT
TZOFFSETFROM:+0100
TZOFFSETTO:+0200
TZNAME:CEST
DTSTART:20250330T010000
END:DAYLIGHT
BEGIN:STANDARD
TZOFFSETFROM:+0200
TZOFFSETTO:+0100
TZNAME:CET
DTSTART:20251026T010000
END:STANDARD
BEGIN:DAYLIGHT
TZOFFSETFROM:+0100
TZOFFSETTO:+0200
TZNAME:CEST
DTSTART:20260329T010000
END:DAYLIGHT
BEGIN:STANDARD
TZOFFSETFROM:+0200
TZOFFSETTO:+0100
TZNAME:CET
DTSTART:20261025T010000
END:STANDARD
END:VTIMEZONE
BEGIN:VEVENT
DTSTART;TZID=Europe/Paris:20250603T180000
DTEND;TZID=Europe/Paris:20250603T203000
DTSTAMP:20260422T170528
CREATED:20250408T094659Z
LAST-MODIFIED:20250408T094659Z
UID:3857-1748973600-1748982600@eveillersanature.fr
SUMMARY:Apéro Sauvage à Ayherre
DESCRIPTION:APÉRO SAUVAGE de 18h à 20h30\nMardi 3 juin\n\nMardi 17 juin \nLes apéros sauvages sont l’occasion de venir célébrer le végétal!\nIci vous n’avez rien à faire\, simplement nous rejoindre et passer un bon moment en régalant vos papilles de pintxos et de boissons colorées élaborés à partir de plantes sauvages.\nLa solaire Anna iia envoutera vos yeux et vos oreilles avec ses contes et ses chants fleuris.\nPour petits et grands! \n\nà partir de 18h00\nAu moulin d’Uhagun\, à Ayherre\nTarif adhérent 35€\, non-adhérent 40€\nGratuit -10 ans puis 15€ par enfant\nInclus: Apéro salé et sucré\, boissons alcoolisées ou non\, animation.
URL:https://eveillersanature.fr/evenement/apero-sauvage-a-ayherre-3/
LOCATION:Ayherre
END:VEVENT
BEGIN:VEVENT
DTSTART;TZID=Europe/Paris:20250607T140000
DTEND;TZID=Europe/Paris:20250607T183000
DTSTAMP:20260422T170528
CREATED:20250408T094128Z
LAST-MODIFIED:20250408T094128Z
UID:3841-1749304800-1749321000@eveillersanature.fr
SUMMARY:Balade botanique spéciale plantes du littoral à Saint Jean de Luz
DESCRIPTION:Samedi 7 juin de 14h à 16h30 Balade botanique spéciale plantes du littoral à Saint Jean de Luz\navec Anne-Catherine Dor\nTarif adhérent 12€ \, non-adhérents 15€\, gratuit -12 ans
URL:https://eveillersanature.fr/evenement/balade-botanique-speciale-plantes-du-littoral-a-saint-jean-de-luz/
LOCATION:Saint Jean de Luz
END:VEVENT
BEGIN:VEVENT
DTSTART;TZID=Europe/Paris:20250614T090000
DTEND;TZID=Europe/Paris:20250614T150000
DTSTAMP:20260422T170528
CREATED:20250408T094342Z
LAST-MODIFIED:20250408T094342Z
UID:3849-1749891600-1749913200@eveillersanature.fr
SUMMARY:Atelier de cuisine sauvage à Ayherre
DESCRIPTION:Samedi 14 juin de 9h à 15h à Ayherre\n\nPlantes aux goût de champignons\, graines aux saveurs d’agrume\, vanille et poivre locaux. Les végétaux vont vous surprendre!\nLors d’une balade botanique\, nous découvrirons les trucs et astuces pour les reconnaître sans risque de confusion. Après une session de cueillette\, nous retournerons en cuisine afin de réaliser un menu complet de l’entrée au dessert.\nNous le dégusterons ensuite ensemble. \n\nDe 9h à 15h\nTarif adhérent 50€\, non-adhérent 60€\nAnimé par Guillemette\, cheffe cuisinière du végétal
URL:https://eveillersanature.fr/evenement/atelier-de-cuisine-sauvage-a-ayherre/
LOCATION:Ayherre
END:VEVENT
BEGIN:VEVENT
DTSTART;TZID=Europe/Paris:20250615T140000
DTEND;TZID=Europe/Paris:20250615T170000
DTSTAMP:20260422T170528
CREATED:20250408T094417Z
LAST-MODIFIED:20250408T094417Z
UID:3851-1749996000-1750006800@eveillersanature.fr
SUMMARY:Atelier de savonnerie à Helette
DESCRIPTION:Dimanche 15 juin de 14h à 17h à Helette\nComprendre la méthode de la saponification à froid\, les ingrédients et les techniques de mise en œuvre et fabrication de savons personnalisés \n\nDe 14h à 17h\nTarif : 55 € par personne\nAnimé par Maritza Nicolaÿ
URL:https://eveillersanature.fr/evenement/atelier-de-savonnerie-a-helette/
LOCATION:Hélette
END:VEVENT
BEGIN:VEVENT
DTSTART;TZID=Europe/Paris:20250617T180000
DTEND;TZID=Europe/Paris:20250617T203000
DTSTAMP:20260422T170528
CREATED:20250408T094810Z
LAST-MODIFIED:20250408T094810Z
UID:3860-1750183200-1750192200@eveillersanature.fr
SUMMARY:Apéro Sauvage à Ayherre
DESCRIPTION:APÉRO SAUVAGE de 18h à 20h30\nMardi 17 juin \nLes apéros sauvages sont l’occasion de venir célébrer le végétal!\nIci vous n’avez rien à faire\, simplement nous rejoindre et passer un bon moment en régalant vos papilles de pintxos et de boissons colorées élaborés à partir de plantes sauvages.\nLa solaire Anna iia envoutera vos yeux et vos oreilles avec ses contes et ses chants fleuris.\nPour petits et grands! \n\nà partir de 18h00\nAu moulin d’Uhagun\, à Ayherre\nTarif adhérent 35€\, non-adhérent 40€\nGratuit -10 ans puis 15€ par enfant\nInclus: Apéro salé et sucré\, boissons alcoolisées ou non\, animation.
URL:https://eveillersanature.fr/evenement/apero-sauvage-a-ayherre-4/
LOCATION:Ayherre
END:VEVENT
BEGIN:VEVENT
DTSTART;TZID=Europe/Paris:20250618T140000
DTEND;TZID=Europe/Paris:20250618T183000
DTSTAMP:20260422T170528
CREATED:20250408T094214Z
LAST-MODIFIED:20250408T094214Z
UID:3843-1750255200-1750271400@eveillersanature.fr
SUMMARY:Balade botanique Plantes médicinales et comestibles à Itxassou
DESCRIPTION:Mercredi 18 juin de 14h à 16h30 Plantes médicinales et comestibles à 16h30 à Itxassou\navec Anne-Catherine Dor\nTarif adhérent 12€ \, non-adhérents 15€\, gratuit -12 ans
URL:https://eveillersanature.fr/evenement/balade-botanique-plantes-medicinales-et-comestibles-a-itxassou/
LOCATION:Itxassou
END:VEVENT
BEGIN:VEVENT
DTSTART;TZID=Europe/Paris:20250627T093000
DTEND;TZID=Europe/Paris:20250627T163000
DTSTAMP:20260422T170528
CREATED:20250408T094456Z
LAST-MODIFIED:20250408T094456Z
UID:3853-1751016600-1751041800@eveillersanature.fr
SUMMARY:Atelier de médecine symbolique à Mendionde
DESCRIPTION:Vendredi 27 juin de 9h30 à 16h30\nà Mendionde \n\nCet atelier vous permettra de découvrir ce que les plantes ont à vous apprendre sur vous. Messages et usages des plantes locales pour une libération spirituelle.\n\nDe 9h30h à 16h30\nTarif: 50€\nGuidé par Valérie Fernandez\, phytothérapeute
URL:https://eveillersanature.fr/evenement/atelier-de-medecine-symbolique-a-mendionde-2/
LOCATION:Mendionde
END:VEVENT
END:VCALENDAR