BEGIN:VCALENDAR
VERSION:2.0
PRODID:-//Eveiller sa nature - ECPv6.15.20//NONSGML v1.0//EN
CALSCALE:GREGORIAN
METHOD:PUBLISH
X-ORIGINAL-URL:https://eveillersanature.fr
X-WR-CALDESC:Évènements pour Eveiller sa nature
REFRESH-INTERVAL;VALUE=DURATION:PT1H
X-Robots-Tag:noindex
X-PUBLISHED-TTL:PT1H
BEGIN:VTIMEZONE
TZID:Europe/Paris
BEGIN:DAYLIGHT
TZOFFSETFROM:+0100
TZOFFSETTO:+0200
TZNAME:CEST
DTSTART:20250330T010000
END:DAYLIGHT
BEGIN:STANDARD
TZOFFSETFROM:+0200
TZOFFSETTO:+0100
TZNAME:CET
DTSTART:20251026T010000
END:STANDARD
BEGIN:DAYLIGHT
TZOFFSETFROM:+0100
TZOFFSETTO:+0200
TZNAME:CEST
DTSTART:20260329T010000
END:DAYLIGHT
BEGIN:STANDARD
TZOFFSETFROM:+0200
TZOFFSETTO:+0100
TZNAME:CET
DTSTART:20261025T010000
END:STANDARD
BEGIN:DAYLIGHT
TZOFFSETFROM:+0100
TZOFFSETTO:+0200
TZNAME:CEST
DTSTART:20270328T010000
END:DAYLIGHT
BEGIN:STANDARD
TZOFFSETFROM:+0200
TZOFFSETTO:+0100
TZNAME:CET
DTSTART:20271031T010000
END:STANDARD
END:VTIMEZONE
BEGIN:VEVENT
DTSTART;TZID=Europe/Paris:20260202T080000
DTEND;TZID=Europe/Paris:20260202T170000
DTSTAMP:20260426T050744
CREATED:20250812T113152Z
LAST-MODIFIED:20260311T131354Z
UID:4017-1770019200-1770051600@eveillersanature.fr
SUMMARY:Formation en herboristerie (niveau 1) à Sare
DESCRIPTION:Toutes les infos : https://eveillersanature.fr/les-formations/
URL:https://eveillersanature.fr/evenement/formation-en-herboristerie-niveau-1-a-sare/
CATEGORIES:Formation
END:VEVENT
BEGIN:VEVENT
DTSTART;TZID=Europe/Paris:20260211T100000
DTEND;TZID=Europe/Paris:20260211T123000
DTSTAMP:20260426T050744
CREATED:20260115T070317Z
LAST-MODIFIED:20260210T080120Z
UID:4408-1770804000-1770813000@eveillersanature.fr
SUMMARY:Balade botanique : Spéciale jeunes pousses à Cambo-les-bains
DESCRIPTION:Spéciale jeunes pousses comestibles \nMercredi 11 février 2026\nCambo-les-Bains\n10h / 12h30\navec Anne-Catherine Dor
URL:https://eveillersanature.fr/evenement/balade-botanique-speciale-jeunes-pousses-a-cambo-les-bains/
LOCATION:Cambo-les-bains
CATEGORIES:Balade botanique
END:VEVENT
BEGIN:VEVENT
DTSTART;TZID=Europe/Paris:20260220T093000
DTEND;TZID=Europe/Paris:20260220T163000
DTSTAMP:20260426T050744
CREATED:20251231T115716Z
LAST-MODIFIED:20260210T091959Z
UID:4379-1771579800-1771605000@eveillersanature.fr
SUMMARY:Atelier de médecine symbolique à Mendionde
DESCRIPTION:Vendredi 20 février 2026\nMendionde\nCet atelier vous permettra de découvrir ce que les plantes ont à vous apprendre sur vous.\nMessages et usages des plantes locales pour une libération spirituelle. \n\nDe 9h30 à 16h30\nTarif: 50€\n6 places\nGuidé par Valérie Fernandez\, phytothérapeute
URL:https://eveillersanature.fr/evenement/atelier-de-medecine-symbolique-a-mendionde-4/
LOCATION:Mendionde
CATEGORIES:Atelier
END:VEVENT
BEGIN:VEVENT
DTSTART;TZID=Europe/Paris:20260221T093000
DTEND;TZID=Europe/Paris:20260221T113000
DTSTAMP:20260426T050744
CREATED:20251231T115410Z
LAST-MODIFIED:20260210T091814Z
UID:4375-1771666200-1771673400@eveillersanature.fr
SUMMARY:Balade botanique : Spéciale jeunes pousses médicinales et comestibles à Mendionde
DESCRIPTION:Samedi 21 février\nMendionde\n9h30 / 11h30\navec Anne-Catherine Dor \nBalade gratuite pour les adhérent·es de l’association.\nLa sortie sera suivie par l’AG de l’association.
URL:https://eveillersanature.fr/evenement/balade-botanique-speciale-jeunes-pousses-medicinales-et-comestibles-a-mendionde/
LOCATION:Mendionde
CATEGORIES:Balade botanique
END:VEVENT
BEGIN:VEVENT
DTSTART;TZID=Europe/Paris:20260228T090000
DTEND;TZID=Europe/Paris:20260228T150000
DTSTAMP:20260426T050744
CREATED:20251231T115802Z
LAST-MODIFIED:20260210T091613Z
UID:4381-1772269200-1772290800@eveillersanature.fr
SUMMARY:Atelier cuisine sauvage spéciale jeunes pousses hivernales à Bardos ou Ayherre
DESCRIPTION:Samedi 28 février 2026\nBardos ou Ayherre\nDès le mois de février\, les tendres jeunes pousses pointent le bout de leur nez.\nVenez apprendre à les sublimer en réalisant un menu de l’entrée au dessert que nous dégusterons ensuite ensemble. \n\nDe 9h00 à 15h00\navec Guillemette Huet de Froberville\n\nTarif adhérent·es : 60€\nTarif non adhérent·es : 70€
URL:https://eveillersanature.fr/evenement/atelier-cuisine-sauvage-speciale-jeunes-pousses-hivernales-a-bardos-ou-ayherre/
LOCATION:Bardos
CATEGORIES:Atelier cuisine
END:VEVENT
END:VCALENDAR